BEGIN:VCALENDAR
VERSION:2.0
PRODID:-//wp-events-plugin.com//6.6.1//EN
TZID:Europe/Berlin
X-WR-TIMEZONE:Europe/Berlin
BEGIN:VEVENT
UID:619@yama-no-mai-goshindo.ch
DTSTART;TZID=Europe/Berlin;VALUE=DATE:20260501
DTEND;TZID=Europe/Berlin;VALUE=DATE:20260504
DTSTAMP:20260226T070441Z
URL:https://yama-no-mai-goshindo.ch/events/gasshuku/
SUMMARY:Goshindo Gasshuku Hergiswil b.W
DESCRIPTION:\n\n&nbsp\;\n\n&nbsp\;
CATEGORIES:Veranstaltung
LOCATION:Lagerhaus Hergiswil b.W.\, Ferienlager Napf\, Hergiswil bei Willis
 au\, 6133\, Schweiz
X-APPLE-STRUCTURED-LOCATION;VALUE=URI;X-ADDRESS=Ferienlager Napf\, Hergiswi
 l bei Willisau\, 6133\, Schweiz;X-APPLE-RADIUS=100;X-TITLE=Lagerhaus Hergi
 swil b.W.:geo:0,0
END:VEVENT
BEGIN:VTIMEZONE
TZID:Europe/Berlin
X-LIC-LOCATION:Europe/Berlin
BEGIN:DAYLIGHT
DTSTART:20260329T030000
TZOFFSETFROM:+0100
TZOFFSETTO:+0200
TZNAME:CEST
END:DAYLIGHT
END:VTIMEZONE
END:VCALENDAR